BEGIN:VCALENDAR
VERSION:2.0
PRODID:-//Divadlo Pikl - ECPv6.1.3//NONSGML v1.0//EN
CALSCALE:GREGORIAN
METHOD:PUBLISH
X-WR-CALNAME:Divadlo Pikl
X-ORIGINAL-URL:https://www.divadlopikl.cz
X-WR-CALDESC:Akce na Divadlo Pikl
REFRESH-INTERVAL;VALUE=DURATION:PT1H
X-Robots-Tag:noindex
X-PUBLISHED-TTL:PT1H
BEGIN:VTIMEZONE
TZID:Europe/Prague
BEGIN:DAYLIGHT
TZOFFSETFROM:+0100
TZOFFSETTO:+0200
TZNAME:CEST
DTSTART:20230326T010000
END:DAYLIGHT
BEGIN:STANDARD
TZOFFSETFROM:+0200
TZOFFSETTO:+0100
TZNAME:CET
DTSTART:20231029T010000
END:STANDARD
BEGIN:DAYLIGHT
TZOFFSETFROM:+0100
TZOFFSETTO:+0200
TZNAME:CEST
DTSTART:20240331T010000
END:DAYLIGHT
BEGIN:STANDARD
TZOFFSETFROM:+0200
TZOFFSETTO:+0100
TZNAME:CET
DTSTART:20241027T010000
END:STANDARD
BEGIN:DAYLIGHT
TZOFFSETFROM:+0100
TZOFFSETTO:+0200
TZNAME:CEST
DTSTART:20250330T010000
END:DAYLIGHT
BEGIN:STANDARD
TZOFFSETFROM:+0200
TZOFFSETTO:+0100
TZNAME:CET
DTSTART:20251026T010000
END:STANDARD
END:VTIMEZONE
BEGIN:VEVENT
DTSTART;TZID=Europe/Prague:20231231T163000
DTEND;TZID=Europe/Prague:20231231T183000
DTSTAMP:20260422T002211
CREATED:20230720T223918Z
LAST-MODIFIED:20231102T235850Z
UID:10000059-1704040200-1704047400@www.divadlopikl.cz
SUMMARY:Vraždy a něžnosti
DESCRIPTION:Autor: Antonín Procházka\nRežie: Zdeněk Pikl\, Aleš Chrt \n\nSedm lidí přijede postupně na odlehlou chalupu. Všichni za jiným účelem a všichni si mysleli\, že tam budou úplně sami.\n\n\nVstupenky na Silvestrovké představení pouze na tel. 723 480 229.\nFotogalerie
URL:https://www.divadlopikl.cz/event/vrazdy-a-neznosti/2023-12-31/1/
LOCATION:KC Panorama\, Masarykova 974\, Hluboká nad Vltavou\, 373 41\, Česká republika
CATEGORIES:Repertoár
ATTACH;FMTTYPE=image/jpeg:https://www.divadlopikl.cz/wp-content/uploads/2023/07/MG_3572.jpg
ORGANIZER;CN="Divadlo%20Pikl":MAILTO:divadlopikl@seznam.cz
END:VEVENT
BEGIN:VEVENT
DTSTART;TZID=Europe/Prague:20231231T193000
DTEND;TZID=Europe/Prague:20231231T213000
DTSTAMP:20260422T002211
CREATED:20230720T223918Z
LAST-MODIFIED:20231102T235850Z
UID:10000060-1704051000-1704058200@www.divadlopikl.cz
SUMMARY:Vraždy a něžnosti
DESCRIPTION:Autor: Antonín Procházka\nRežie: Zdeněk Pikl\, Aleš Chrt \n\nSedm lidí přijede postupně na odlehlou chalupu. Všichni za jiným účelem a všichni si mysleli\, že tam budou úplně sami.\n\n\nVstupenky na Silvestrovké představení pouze na tel. 723 480 229.\nFotogalerie
URL:https://www.divadlopikl.cz/event/vrazdy-a-neznosti/2023-12-31/2/
LOCATION:KC Panorama\, Masarykova 974\, Hluboká nad Vltavou\, 373 41\, Česká republika
CATEGORIES:Repertoár
ATTACH;FMTTYPE=image/jpeg:https://www.divadlopikl.cz/wp-content/uploads/2023/07/MG_3572.jpg
ORGANIZER;CN="Divadlo%20Pikl":MAILTO:divadlopikl@seznam.cz
END:VEVENT
BEGIN:VEVENT
DTSTART;TZID=Europe/Prague:20240127T190000
DTEND;TZID=Europe/Prague:20240127T210000
DTSTAMP:20260422T002211
CREATED:20230720T223918Z
LAST-MODIFIED:20231102T235850Z
UID:10000062-1706382000-1706389200@www.divadlopikl.cz
SUMMARY:Vraždy a něžnosti
DESCRIPTION:Autor: Antonín Procházka\nRežie: Zdeněk Pikl\, Aleš Chrt \n\nSedm lidí přijede postupně na odlehlou chalupu. Všichni za jiným účelem a všichni si mysleli\, že tam budou úplně sami.\n\n\nVstupenky na Silvestrovké představení pouze na tel. 723 480 229.\nFotogalerie
URL:https://www.divadlopikl.cz/event/vrazdy-a-neznosti/2024-01-27/
LOCATION:KC Panorama\, Masarykova 974\, Hluboká nad Vltavou\, 373 41\, Česká republika
CATEGORIES:Repertoár
ATTACH;FMTTYPE=image/jpeg:https://www.divadlopikl.cz/wp-content/uploads/2023/07/MG_3572.jpg
ORGANIZER;CN="Divadlo%20Pikl":MAILTO:divadlopikl@seznam.cz
END:VEVENT
BEGIN:VEVENT
DTSTART;TZID=Europe/Prague:20240203T190000
DTEND;TZID=Europe/Prague:20240203T210000
DTSTAMP:20260422T002211
CREATED:20230720T224603Z
LAST-MODIFIED:20240528T083608Z
UID:10000064-1706986800-1706994000@www.divadlopikl.cz
SUMMARY:A do pyžam
DESCRIPTION:Autor: Marc Camolleti (Pyjama pour six\, 1985)\nRežie: Zdeněk Pikl\, Aleš Chrt \n\nAby nenechal svou milenku v den jejích narozenin doma samotnou\, pozve ji „pán“ na venkov\, kde pravidelně tráví víkendy se svou manželkou. Aby ospravedlnil její přítomnost\, pozve i svého nejlepšího přítele. Vše zkomplikuje služka\, která má stejné jméno jako „pánova“ milenka……\n\nFotogalerie
URL:https://www.divadlopikl.cz/event/a-do-pyzam/2024-02-03/
LOCATION:KC Panorama\, Masarykova 974\, Hluboká nad Vltavou\, 373 41\, Česká republika
CATEGORIES:Repertoár
ATTACH;FMTTYPE=image/jpeg:https://www.divadlopikl.cz/wp-content/uploads/2023/07/DSC00873-1.jpg
ORGANIZER;CN="Divadlo%20Pikl":MAILTO:divadlopikl@seznam.cz
END:VEVENT
BEGIN:VEVENT
DTSTART;TZID=Europe/Prague:20240216T190000
DTEND;TZID=Europe/Prague:20240216T210000
DTSTAMP:20260422T002211
CREATED:20230720T224603Z
LAST-MODIFIED:20240528T083608Z
UID:10000065-1708110000-1708117200@www.divadlopikl.cz
SUMMARY:A do pyžam
DESCRIPTION:Autor: Marc Camolleti (Pyjama pour six\, 1985)\nRežie: Zdeněk Pikl\, Aleš Chrt \n\nAby nenechal svou milenku v den jejích narozenin doma samotnou\, pozve ji „pán“ na venkov\, kde pravidelně tráví víkendy se svou manželkou. Aby ospravedlnil její přítomnost\, pozve i svého nejlepšího přítele. Vše zkomplikuje služka\, která má stejné jméno jako „pánova“ milenka……\n\nFotogalerie
URL:https://www.divadlopikl.cz/event/a-do-pyzam/2024-02-16/
LOCATION:KC Panorama\, Masarykova 974\, Hluboká nad Vltavou\, 373 41\, Česká republika
CATEGORIES:Repertoár
ATTACH;FMTTYPE=image/jpeg:https://www.divadlopikl.cz/wp-content/uploads/2023/07/DSC00873-1.jpg
ORGANIZER;CN="Divadlo%20Pikl":MAILTO:divadlopikl@seznam.cz
END:VEVENT
BEGIN:VEVENT
DTSTART;TZID=Europe/Prague:20240217T190000
DTEND;TZID=Europe/Prague:20240217T210000
DTSTAMP:20260422T002211
CREATED:20230720T224603Z
LAST-MODIFIED:20240528T083608Z
UID:10000066-1708196400-1708203600@www.divadlopikl.cz
SUMMARY:A do pyžam
DESCRIPTION:Autor: Marc Camolleti (Pyjama pour six\, 1985)\nRežie: Zdeněk Pikl\, Aleš Chrt \n\nAby nenechal svou milenku v den jejích narozenin doma samotnou\, pozve ji „pán“ na venkov\, kde pravidelně tráví víkendy se svou manželkou. Aby ospravedlnil její přítomnost\, pozve i svého nejlepšího přítele. Vše zkomplikuje služka\, která má stejné jméno jako „pánova“ milenka……\n\nFotogalerie
URL:https://www.divadlopikl.cz/event/a-do-pyzam/2024-02-17/
LOCATION:KC Panorama\, Masarykova 974\, Hluboká nad Vltavou\, 373 41\, Česká republika
CATEGORIES:Repertoár
ATTACH;FMTTYPE=image/jpeg:https://www.divadlopikl.cz/wp-content/uploads/2023/07/DSC00873-1.jpg
ORGANIZER;CN="Divadlo%20Pikl":MAILTO:divadlopikl@seznam.cz
END:VEVENT
BEGIN:VEVENT
DTSTART;TZID=Europe/Prague:20240302T190000
DTEND;TZID=Europe/Prague:20240302T210000
DTSTAMP:20260422T002211
CREATED:20230720T224603Z
LAST-MODIFIED:20240528T083608Z
UID:10000067-1709406000-1709413200@www.divadlopikl.cz
SUMMARY:A do pyžam
DESCRIPTION:Autor: Marc Camolleti (Pyjama pour six\, 1985)\nRežie: Zdeněk Pikl\, Aleš Chrt \n\nAby nenechal svou milenku v den jejích narozenin doma samotnou\, pozve ji „pán“ na venkov\, kde pravidelně tráví víkendy se svou manželkou. Aby ospravedlnil její přítomnost\, pozve i svého nejlepšího přítele. Vše zkomplikuje služka\, která má stejné jméno jako „pánova“ milenka……\n\nFotogalerie
URL:https://www.divadlopikl.cz/event/a-do-pyzam/2024-03-02/
LOCATION:KC Panorama\, Masarykova 974\, Hluboká nad Vltavou\, 373 41\, Česká republika
CATEGORIES:Repertoár
ATTACH;FMTTYPE=image/jpeg:https://www.divadlopikl.cz/wp-content/uploads/2023/07/DSC00873-1.jpg
ORGANIZER;CN="Divadlo%20Pikl":MAILTO:divadlopikl@seznam.cz
END:VEVENT
BEGIN:VEVENT
DTSTART;TZID=Europe/Prague:20241018T190000
DTEND;TZID=Europe/Prague:20241018T210000
DTSTAMP:20260422T002211
CREATED:20230720T225255Z
LAST-MODIFIED:20241123T141809Z
UID:10000069-1729278000-1729285200@www.divadlopikl.cz
SUMMARY:Charleyova teta
DESCRIPTION:Autor: Jevan Brandon-Thomas\nRežie: Gustav Skála \n\nOxfordské univerzitní koleje\, konec 19. století. Mladistvě ztřeštění spolužáci Charley a Jack mají v úmyslu požádat své vyvolené o ruku\, ale dobová etiketa si žádá doporučení důvěryhodné osoby. Charleyho má navštívit bohatá tetička z Brazílie a problém se zdá být vyřešen. Jenže teta ne a ne dorazit a slečny už jsou na cestě. Zoufalá situace si žádá zoufalé řešení.\n\nObsazení: Zdeněk Pikl\, Martin Havlín\, Lukáš Randák/Pavel Šturma\, Miroslav Surka\, Zuzana Benešová/Barbora Šanderová\, Věra Vodičková/Jana Michalová\, Aleš Chrt\, Luděk Šindelář\, Dagmar Volfová/Věra Pašková\, Milada Štěchová/Radka Vacková.\n\nFotogalerie
URL:https://www.divadlopikl.cz/event/charleyova-teta/2024-10-18/
LOCATION:KC Panorama\, Masarykova 974\, Hluboká nad Vltavou\, 373 41\, Česká republika
CATEGORIES:Repertoár
ATTACH;FMTTYPE=image/jpeg:https://www.divadlopikl.cz/wp-content/uploads/2023/08/568A4919.jpg
ORGANIZER;CN="Divadlo%20Pikl":MAILTO:divadlopikl@seznam.cz
END:VEVENT
BEGIN:VEVENT
DTSTART;TZID=Europe/Prague:20241019T190000
DTEND;TZID=Europe/Prague:20241019T210000
DTSTAMP:20260422T002211
CREATED:20230720T225255Z
LAST-MODIFIED:20241123T141809Z
UID:10000070-1729364400-1729371600@www.divadlopikl.cz
SUMMARY:Charleyova teta
DESCRIPTION:Autor: Jevan Brandon-Thomas\nRežie: Gustav Skála \n\nOxfordské univerzitní koleje\, konec 19. století. Mladistvě ztřeštění spolužáci Charley a Jack mají v úmyslu požádat své vyvolené o ruku\, ale dobová etiketa si žádá doporučení důvěryhodné osoby. Charleyho má navštívit bohatá tetička z Brazílie a problém se zdá být vyřešen. Jenže teta ne a ne dorazit a slečny už jsou na cestě. Zoufalá situace si žádá zoufalé řešení.\n\nObsazení: Zdeněk Pikl\, Martin Havlín\, Lukáš Randák/Pavel Šturma\, Miroslav Surka\, Zuzana Benešová/Barbora Šanderová\, Věra Vodičková/Jana Michalová\, Aleš Chrt\, Luděk Šindelář\, Dagmar Volfová/Věra Pašková\, Milada Štěchová/Radka Vacková.\n\nFotogalerie
URL:https://www.divadlopikl.cz/event/charleyova-teta/2024-10-19/
LOCATION:KC Panorama\, Masarykova 974\, Hluboká nad Vltavou\, 373 41\, Česká republika
CATEGORIES:Repertoár
ATTACH;FMTTYPE=image/jpeg:https://www.divadlopikl.cz/wp-content/uploads/2023/08/568A4919.jpg
ORGANIZER;CN="Divadlo%20Pikl":MAILTO:divadlopikl@seznam.cz
END:VEVENT
BEGIN:VEVENT
DTSTART;TZID=Europe/Prague:20241108T190000
DTEND;TZID=Europe/Prague:20241108T210000
DTSTAMP:20260422T002211
CREATED:20230720T225255Z
LAST-MODIFIED:20241123T141809Z
UID:10000071-1731092400-1731099600@www.divadlopikl.cz
SUMMARY:Charleyova teta
DESCRIPTION:Autor: Jevan Brandon-Thomas\nRežie: Gustav Skála \n\nOxfordské univerzitní koleje\, konec 19. století. Mladistvě ztřeštění spolužáci Charley a Jack mají v úmyslu požádat své vyvolené o ruku\, ale dobová etiketa si žádá doporučení důvěryhodné osoby. Charleyho má navštívit bohatá tetička z Brazílie a problém se zdá být vyřešen. Jenže teta ne a ne dorazit a slečny už jsou na cestě. Zoufalá situace si žádá zoufalé řešení.\n\nObsazení: Zdeněk Pikl\, Martin Havlín\, Lukáš Randák/Pavel Šturma\, Miroslav Surka\, Zuzana Benešová/Barbora Šanderová\, Věra Vodičková/Jana Michalová\, Aleš Chrt\, Luděk Šindelář\, Dagmar Volfová/Věra Pašková\, Milada Štěchová/Radka Vacková.\n\nFotogalerie
URL:https://www.divadlopikl.cz/event/charleyova-teta/2024-11-08/
LOCATION:KC Panorama\, Masarykova 974\, Hluboká nad Vltavou\, 373 41\, Česká republika
CATEGORIES:Repertoár
ATTACH;FMTTYPE=image/jpeg:https://www.divadlopikl.cz/wp-content/uploads/2023/08/568A4919.jpg
ORGANIZER;CN="Divadlo%20Pikl":MAILTO:divadlopikl@seznam.cz
END:VEVENT
BEGIN:VEVENT
DTSTART;TZID=Europe/Prague:20241109T190000
DTEND;TZID=Europe/Prague:20241109T210000
DTSTAMP:20260422T002211
CREATED:20230720T225255Z
LAST-MODIFIED:20241123T141809Z
UID:10000072-1731178800-1731186000@www.divadlopikl.cz
SUMMARY:Charleyova teta
DESCRIPTION:Autor: Jevan Brandon-Thomas\nRežie: Gustav Skála \n\nOxfordské univerzitní koleje\, konec 19. století. Mladistvě ztřeštění spolužáci Charley a Jack mají v úmyslu požádat své vyvolené o ruku\, ale dobová etiketa si žádá doporučení důvěryhodné osoby. Charleyho má navštívit bohatá tetička z Brazílie a problém se zdá být vyřešen. Jenže teta ne a ne dorazit a slečny už jsou na cestě. Zoufalá situace si žádá zoufalé řešení.\n\nObsazení: Zdeněk Pikl\, Martin Havlín\, Lukáš Randák/Pavel Šturma\, Miroslav Surka\, Zuzana Benešová/Barbora Šanderová\, Věra Vodičková/Jana Michalová\, Aleš Chrt\, Luděk Šindelář\, Dagmar Volfová/Věra Pašková\, Milada Štěchová/Radka Vacková.\n\nFotogalerie
URL:https://www.divadlopikl.cz/event/charleyova-teta/2024-11-09/
LOCATION:KC Panorama\, Masarykova 974\, Hluboká nad Vltavou\, 373 41\, Česká republika
CATEGORIES:Repertoár
ATTACH;FMTTYPE=image/jpeg:https://www.divadlopikl.cz/wp-content/uploads/2023/08/568A4919.jpg
ORGANIZER;CN="Divadlo%20Pikl":MAILTO:divadlopikl@seznam.cz
END:VEVENT
BEGIN:VEVENT
DTSTART;TZID=Europe/Prague:20241231T193000
DTEND;TZID=Europe/Prague:20241231T213000
DTSTAMP:20260422T002211
CREATED:20241123T142137Z
LAST-MODIFIED:20241123T142254Z
UID:10000073-1735673400-1735680600@www.divadlopikl.cz
SUMMARY:Charleyova teta
DESCRIPTION:Silvestrovské představení – vstupenky pouze na tel. 777 228 548.\n\nAutor: Jevan Brandon-Thomas\nRežie: Gustav Skála \n\nOxfordské univerzitní koleje\, konec 19. století. Mladistvě ztřeštění spolužáci Charley a Jack mají v úmyslu požádat své vyvolené o ruku\, ale dobová etiketa si žádá doporučení důvěryhodné osoby. Charleyho má navštívit bohatá tetička z Brazílie a problém se zdá být vyřešen. Jenže teta ne a ne dorazit a slečny už jsou na cestě. Zoufalá situace si žádá zoufalé řešení.\n\nObsazení: Zdeněk Pikl\, Martin Havlín\, Lukáš Randák/Pavel Šturma\, Miroslav Surka\, Zuzana Benešová/Barbora Šanderová\, Věra Vodičková/Jana Michalová\, Aleš Chrt\, Luděk Šindelář\, Dagmar Volfová/Věra Pašková\, Milada Štěchová/Radka Vacková.\n\nFotogalerie
URL:https://www.divadlopikl.cz/event/charleyova-teta-2/
LOCATION:KC Panorama\, Masarykova 974\, Hluboká nad Vltavou\, 373 41\, Česká republika
CATEGORIES:Repertoár
ATTACH;FMTTYPE=image/jpeg:https://www.divadlopikl.cz/wp-content/uploads/2023/08/568A4919.jpg
ORGANIZER;CN="Divadlo%20Pikl":MAILTO:divadlopikl@seznam.cz
END:VEVENT
BEGIN:VEVENT
DTSTART;TZID=Europe/Prague:20251206T190000
DTEND;TZID=Europe/Prague:20251206T220000
DTSTAMP:20260422T002211
CREATED:20230720T225627Z
LAST-MODIFIED:20251028T185615Z
UID:10000029-1765047600-1765058400@www.divadlopikl.cz
SUMMARY:Sluha dvou pánů
DESCRIPTION:Autor: Carlo Goldoni\nRežie: Dominik Beneš \n\nDo Benátek přijíždí Beatrice převlečená za svého bratra. Chce tam najít svého milence Florinda. Ubytuje se v hostinci\, který patří Brighelle a najme si sluhu Truffaldina. Ten je ale zaměstnán i u Florinda\, slouží tedy dvěma pánům. Z toho vyplývá hodně komických situací\, třeba když je obsluhuje při obědě\, je z toho pěkný zmatek. Jednou má vyvětrat šatník svých pánů\, ale samozřejmě poplete jaké šaty patří do jakého kufru. Dostane se tak daleko\, že řekne svým pánům o smrti toho druhého. Sluha Truffaldino sehraje mnoho ztřeštěných kousků a dokonce se i zamiluje do Klaričiny služky Smeraldiny. Nakonec Beatrice odhalí svou totožnost\, shledá se s Florindem. Sluha se přizná\, že sloužil dvěma pánům a může si konečně vzít svoji milovanou Smeraldinu.\n\nFotogalerie
URL:https://www.divadlopikl.cz/event/sluha-dvou-panu/
LOCATION:KC Panorama\, Masarykova 974\, Hluboká nad Vltavou\, 373 41\, Česká republika
CATEGORIES:Repertoár
ATTACH;FMTTYPE=image/jpeg:https://www.divadlopikl.cz/wp-content/uploads/2023/07/585B8142.jpg
ORGANIZER;CN="Divadlo%20Pikl":MAILTO:divadlopikl@seznam.cz
END:VEVENT
END:VCALENDAR