BEGIN:VCALENDAR
VERSION:2.0
PRODID:-//Divadlo Pikl - ECPv6.1.3//NONSGML v1.0//EN
CALSCALE:GREGORIAN
METHOD:PUBLISH
X-ORIGINAL-URL:https://www.divadlopikl.cz
X-WR-CALDESC:Akce na Divadlo Pikl
REFRESH-INTERVAL;VALUE=DURATION:PT1H
X-Robots-Tag:noindex
X-PUBLISHED-TTL:PT1H
BEGIN:VTIMEZONE
TZID:Europe/Prague
BEGIN:DAYLIGHT
TZOFFSETFROM:+0100
TZOFFSETTO:+0200
TZNAME:CEST
DTSTART:20230326T010000
END:DAYLIGHT
BEGIN:STANDARD
TZOFFSETFROM:+0200
TZOFFSETTO:+0100
TZNAME:CET
DTSTART:20231029T010000
END:STANDARD
TZID:UTC
BEGIN:STANDARD
TZOFFSETFROM:+0000
TZOFFSETTO:+0000
TZNAME:UTC
DTSTART:20230101T000000
END:STANDARD
END:VTIMEZONE
BEGIN:VEVENT
DTSTART;TZID=Europe/Prague:20230721T000000
DTEND;TZID=Europe/Prague:20230721T000000
DTSTAMP:20260422T185722
CREATED:20230720T222240Z
LAST-MODIFIED:20230720T222346Z
UID:10000017-1689897600-1689897600@www.divadlopikl.cz
SUMMARY:Muzikálová noc na Zámku Ohrada
DESCRIPTION:Autor: Zdeněk PiklRežie: Zdeněk Pikl Nádvoří zámku Ohrada rozezní nejznámější muzikálové písně a to v podání známých zpěváků Divadla Pikl. Samozřejmě se můžete těšit též na ukázky z muzikálů jako je Jedna noc na Karlštejně\, Romeo a Julie či muzikál Casanova. Hosté: Zuzana Benešová\, Elis Ochmanová\, Jan Kopečný\, Lukáš Randák\, Jana Štěpánková\, Lucie Pragerová a další.
URL:https://www.divadlopikl.cz/event/muzikalova-noc-na-zamku-ohrada/
LOCATION:KC Panorama\, Masarykova 974\, Hluboká nad Vltavou\, 373 41\, Česká republika
CATEGORIES:Repertoár
ATTACH;FMTTYPE=image/png:https://www.divadlopikl.cz/wp-content/uploads/2023/07/21.png
ORGANIZER;CN="Divadlo%20Pikl":MAILTO:divadlopikl@seznam.cz
END:VEVENT
BEGIN:VEVENT
DTSTART;TZID=Europe/Prague:20230720T200000
DTEND;TZID=Europe/Prague:20230720T220000
DTSTAMP:20260422T185722
CREATED:20230720T230448Z
LAST-MODIFIED:20230726T143802Z
UID:10000034-1689883200-1689890400@www.divadlopikl.cz
SUMMARY:Casanova
DESCRIPTION:Autor: Zdeněk Barták\, Petr Markov\nRežie: David Cody \n\nJméno Casanova\, stejně jako Don Juan\, je synonymem pro dobyvatele ženských srdcí. Kdyby náš muzikál líčil pouze jeho milostné avantýry\, mohla by to být pěkná nuda. My ale chceme v Casanovovi vidět především galantního muže ze staré školy\, který ženy nevyužíval pouze pro svou rozkoš\, ale spíš jako mecenášky\, přímluvkyně\, a často dokonce jako zdroj cenných informací\, ze kterých těžil jako diplomat a špión. Náš příběh se odehrává na sklonku jeho života\, kdy působil jako knihovník na Duchcově. Více na www.casanova-muzikal.cz\n\nFotogalerie
URL:https://www.divadlopikl.cz/event/casanova/
LOCATION:KC Panorama\, Masarykova 974\, Hluboká nad Vltavou\, 373 41\, Česká republika
CATEGORIES:Repertoár
ATTACH;FMTTYPE=image/jpeg:https://www.divadlopikl.cz/wp-content/uploads/2023/07/585B2957.jpg
ORGANIZER;CN="Divadlo%20Pikl":MAILTO:divadlopikl@seznam.cz
END:VEVENT
BEGIN:VEVENT
DTSTART;TZID=Europe/Prague:20230720T190000
DTEND;TZID=Europe/Prague:20230720T210000
DTSTAMP:20260422T185722
CREATED:20230726T193307Z
LAST-MODIFIED:20230726T221427Z
UID:10000051-1689879600-1689886800@www.divadlopikl.cz
SUMMARY:Jistě pane premiére
DESCRIPTION:Autor: Antony Jay\, Jonathan LynnRežie: Zdeněk Pikl Kdyby to nebylo tak k smíchu\, bylo by to spíš k pláči. Břitká komedie o tom \, jak se dělá velká politika nejen v Británii. Nejúspěšnější britská komedie posledního desetiletí. 		\n			Fotogalerie
URL:https://www.divadlopikl.cz/event/jiste-pane-premiere/
LOCATION:KC Panorama\, Masarykova 974\, Hluboká nad Vltavou\, 373 41\, Česká republika
CATEGORIES:Repertoár
ATTACH;FMTTYPE=image/jpeg:https://www.divadlopikl.cz/wp-content/uploads/2023/07/jiste_pane_premiere.jpg
ORGANIZER;CN="Divadlo%20Pikl":MAILTO:divadlopikl@seznam.cz
END:VEVENT
BEGIN:VEVENT
DTSTART;TZID=UTC:20230720T080000
DTEND;TZID=UTC:20230720T170000
DTSTAMP:20260422T185722
CREATED:20180307T113112Z
LAST-MODIFIED:20230725T230148Z
UID:10000012-1689840000-1689872400@www.divadlopikl.cz
SUMMARY:Tři muži na špatné adrese
DESCRIPTION:Autor: Luigi Lunari\nRežie: Zdeněk Pikl Aleš Chrt \n\nJe normální\, aby si tři osoby\, všechny plnoleté\, a v dobré tělesné kondici\, najednou spletly nejen adresu? V této výtečné komedii není normální skoro nic\, ale všechno se dá nějak vysvětlit.\nFotogalerie
URL:https://www.divadlopikl.cz/event/tri-muzi-na-spatne-adrese/
LOCATION:KC Panorama\, Masarykova 974\, Hluboká nad Vltavou\, 373 41\, Česká republika
CATEGORIES:Repertoár
ATTACH;FMTTYPE=image/jpeg:https://www.divadlopikl.cz/wp-content/uploads/2018/03/IMG_8779.jpg
ORGANIZER;CN="Divadlo%20Pikl":MAILTO:divadlopikl@seznam.cz
END:VEVENT
END:VCALENDAR